BEGIN:VCALENDAR
VERSION:2.0
CALSCALE:GREGORIAN
METHOD:PUBLISH
PRODID://PSA//419499
BEGIN:VEVENT
DTSTAMP:20260419T084025
VTIMEZONE:America/New_York
DTSTART:20251016T040000Z
DTEND:20251020T034500Z
UID:419499
SUMMARY:John Dewey's Experience & Nature: A Centennial Celebration
LOCATION:Southern Illinois University Carbondale, 1263 Lincoln Dr, Carbondale, IL, 62901
DESCRIPTION:John Dewey's Experience & Nature: A Centennial Celebration\n\n10/16/25 12:00 AM EST\n - 10/19/25 11:45 PM EST\Description:\nThe Center for Dewey Studies at SIU hosts a conferencing marking the 100th anniversary of the publication of John Dewey’s monumental work, Experience and Nature.\Details:\nAs 2025 marks the centennial of the publication of John Dewey’s monumental work, Experience and Nature, we are excited to announce a conference to celebrate this anniversary at the Center for Dewey Studies at Southern Illinois University Carbondale. Dewey is one of the most well-known philosophers, educators, and public intellectuals in American history, and recognition of his significance is on the rise. Dewey’s Experience and Nature provides the definitive statement of Dewey’s “empirical naturalism” (or “naturalistic humanism”), a metaphysical approach that is pro-science without being overly scientistic, undermines centuries of philosophical question-begging, and offers an alternative to theories that set humans against nature, society, and, ultimately, themselves. The work focuses on philosophical method, the metaphysics of nature, and the philosophy of mind; it also situates Dewey’s theories of knowledge, meaning, art, and value within its naturalist-humanist metaphysics. Though long an object of study among Dewey scholars, the book’s significance for contemporary thought in a variety of fields remains underappreciated. Experience and Nature has much to offer contemporary discussions in philosophy, history, aesthetic theory, psychology, and anthropology. This conference will bring together Dewey scholars and other contemporary thinkers both inspired by Dewey and working on relevant topics in Dewey’s spirit.\n\nKeynote Speakers\n\n\n	Roberta Dreon, Ca' Foscari University of Venice\n	Steven Fesmire, Radford University\n	Mark Johnson, University of Oregon\n\nSee more information at the conference website. \Location:\nSouthern Illinois University Carbondale\n1263 Lincoln Dr\nCarbondale, IL 62901
X-ALT-DESC;FMTTYPE=text/html:John Dewey's Experience & Nature: A Centennial Celebration<br /><br />10/16/25 12:00 AM EST - 10/19/25 11:45 PM EST<br />Description:<br />The&nbsp;Center for Dewey Studies at SIU hosts a conferencing marking the 100th anniversary of the publication&nbsp;of John Dewey&rsquo;s monumental work,&nbsp;<em>Experience and Nature.</em><br />Details:<br /><p>As 2025 marks the centennial of the publication of John Dewey&rsquo;s monumental work,&nbsp;<em>Experience and Nature</em>, we are excited to announce a conference to celebrate this anniversary at the Center for Dewey Studies at Southern Illinois University Carbondale. Dewey is one of the most well-known philosophers, educators, and public intellectuals in American history, and recognition of his significance is on the rise. Dewey&rsquo;s&nbsp;<em>Experience and Nature</em>&nbsp;provides the definitive statement of Dewey&rsquo;s &ldquo;empirical naturalism&rdquo; (or &ldquo;naturalistic humanism&rdquo;), a metaphysical approach that is pro-science without being overly scientistic, undermines centuries of philosophical question-begging, and offers an alternative to theories that set humans against nature, society, and, ultimately, themselves. The work focuses on philosophical method, the metaphysics of nature, and the philosophy of mind; it also situates Dewey&rsquo;s theories of knowledge, meaning, art, and value within its naturalist-humanist metaphysics. Though long an object of study among Dewey scholars, the book&rsquo;s significance for contemporary thought in a variety of fields remains underappreciated.&nbsp;<em>Experience and Nature</em>&nbsp;has much to offer contemporary discussions in philosophy, history, aesthetic theory, psychology, and anthropology. This conference will bring together Dewey scholars and other contemporary thinkers both inspired by Dewey and working on relevant topics in Dewey&rsquo;s spirit.</p>

<h3>Keynote Speakers</h3>

<ul>
	<li><a href="https://www.unive.it/data/5309/5592094/curriculum" rel="noopener" target="_blank">Roberta Dreon</a>, Ca' Foscari University of Venice</li>
	<li><a href="https://www.radford.edu/directory/profiles/philosophy-religious-studies-department/steven-fesmire.html" rel="noopener" target="_blank">Steven Fesmire</a>, Radford University</li>
	<li><a href="https://blogs.uoregon.edu/markj/" rel="noopener" target="_blank">Mark Johnson</a>, University of Oregon</li>
</ul>
See more information at the conference website.&nbsp;<br />Location:<br />Southern Illinois University Carbondale<br />1263 Lincoln Dr<br />Carbondale, IL 62901
PRIORITY:3
TRANSP:TRANSPARENT
BEGIN:VALARM
TRIGGER:-PT5M
ACTION:DISPLAY
DESCRIPTION:Reminder
END:VALARM
END:VEVENT
END:VCALENDAR
