BEGIN:VCALENDAR
VERSION:2.0
CALSCALE:GREGORIAN
METHOD:PUBLISH
PRODID://PSA//206909
BEGIN:VEVENT
DTSTAMP:20260423T061523
VTIMEZONE:Europe/London
DTSTART:20210506T110000Z
DTEND:20210507T170000Z
UID:206909
SUMMARY:Evidence and Explanations of Cognition
LOCATION:Online (Zoom)
DESCRIPTION:Evidence and Explanations of Cognition\n\n05/06/21 12:00 PM GMT\n - 05/07/21 06:00 PM GMT\Description:\nAbstracts, conference description, and program are available at: https://sites.google.com/view/evidence-explanation-cognition\Details:\nSpeakers:\n\nProfessor William Bechtel (University of California, San Diego)\n\nProfessor Lisa Bortolotti (University of Birmingham)\n\nProfessor Anthony Chemero (University of Cincinnati)\n\nProfessor Lindley Darden (University of Maryland)\n\nProfessor Edouard Machery (University of Pittsburgh)\n\nProfessor John Moult (University of Maryland)\n\nProfessor Bence Nanay (University of Antwerp)\n\nProfessor Richard Samuels (Ohio State University)\n\nSamuel Taylor (University of Kent)\n\nProfessor Daniel Weiskopf (Georgia State University)\n\nProfessor Jon Williamson (University of Kent)\n\n\n-----------------------------------------\n\nRegistration:\nAttendance is free. Please register by May 1st, 2021.\n\Location:\nOnline (Zoom)\n\n,
X-ALT-DESC;FMTTYPE=text/html:Evidence and Explanations of Cognition<br /><br />05/06/21 12:00 PM GMT - 05/07/21 06:00 PM GMT<br />Description:<br /><span><span><span style="font-size:10pt;font-family:&quot;arial&quot;,&quot;sans-serif&quot;">Abstracts, conference description, and program are available at: <a href="https://sites.google.com/view/evidence-explanation-cognition">https://sites.google.com/view/evidence-explanation-cognition</a></span></span></span><br />Details:<br /><div><strong>Speakers:</strong></div>

<div>Professor William Bechtel (University of California, San Diego)</div>

<div>Professor Lisa Bortolotti (University of Birmingham)</div>

<div>Professor Anthony Chemero (University of Cincinnati)</div>

<div>Professor Lindley Darden (University of Maryland)</div>

<div>Professor Edouard Machery (University of Pittsburgh)</div>

<div>Professor John Moult (University of Maryland)</div>

<div>Professor Bence Nanay (University of Antwerp)</div>

<div>Professor Richard Samuels (Ohio State University)</div>

<div>Samuel Taylor (University of Kent)</div>

<div>Professor Daniel Weiskopf (Georgia State University)</div>

<div>Professor Jon Williamson (University of Kent)</div>

<div><br />
------------------------------<wbr />-----------<br />
<br />
<strong>Registration:</strong><br />
Attendance is free. Please register by May 1st, 2021.</div>
<br />Location:<br />Online (Zoom)<br /><br />,  
PRIORITY:3
TRANSP:TRANSPARENT
BEGIN:VALARM
TRIGGER:-PT5M
ACTION:DISPLAY
DESCRIPTION:Reminder
END:VALARM
END:VEVENT
END:VCALENDAR
